BEGIN:VCALENDAR
VERSION:2.0
PRODID:-//ChamberMaster//Event Calendar 2.0//EN
METHOD:PUBLISH
X-PUBLISHED-TTL:P1H
REFRESH-INTERVAL:P1H
CALSCALE:GREGORIAN
BEGIN:VTIMEZONE
TZID:America/Chicago
BEGIN:DAYLIGHT
RRULE:FREQ=YEARLY;BYMONTH=3;BYDAY=2SU
DTSTART:20070101T000000
TZOFFSETFROM:-0600
TZOFFSETTO:-0500
TZNAME:Central Daylight Time
END:DAYLIGHT
BEGIN:STANDARD
RRULE:FREQ=YEARLY;BYMONTH=11;BYDAY=1SU
DTSTART:20070101T000000
TZOFFSETFROM:-0500
TZOFFSETTO:-0600
TZNAME:Central Standard Time
END:STANDARD
END:VTIMEZONE
BEGIN:VEVENT
DTSTART;TZID=America/Chicago:20260510T100000
DTEND;TZID=America/Chicago:20260510T130000
X-MICROSOFT-CDO-ALLDAYEVENT:FALSE
SUMMARY:ToGather Mother's Day Brunch
DESCRIPTION:Celebrate Mom in the sweetest way this Mother's Day with a beautiful brunch experience designed for the whole family. Join us on Sunday\, May 10\, 2026\, for a warm\, inviting gathering filled with delicious food\, relaxed conversation\, and memorable moments together.We're offering two seating times 10:00 AM and 12:00 PM so you can choose what fits your day best. Each seating is limited to ensure a comfortable\, enjoyable atmosphere\, so be sure to reserve your spot early.Indulge in a thoughtfully curated brunch menu featuring something for everyone. Enjoy a fresh fruit display\, savory favorites like crispy bacon\, sausage patties\, and golden hash browns\, and classic breakfast staples including scrambled eggs and house-made waffles. Treat yourself to elevated delights like Cr me Br l e French Toast and a customizable yogurt bar.BYOB--bring your own champagne and we will have the rest to enjoy a mimosa with mom! $5 corkage feeOur bakery selection offers a tempting assortment of Danishes\, mini muffins\, coffee cakes\, and specialty New York chocolate and cinnamon babka cakes. You'll also find a variety of quiches including meat\, diced ham\, and vegetarian options to round out your plate.Pricing:Adults: $39.95Children (ages 4 10): $19.95Children over 10: $39.95Children ages 1 4: FreeMake this Mother's Day one to remember with a brunch that's as special as she is.
X-ALT-DESC;FMTTYPE=text/html:<!DOCTYPE html><html><head><title></title></head><body aria-disabled="false"><p data-end="267" data-start="0">Celebrate Mom in the sweetest way this Mother&rsquo\;s Day with a beautiful brunch experience designed for the whole family. Join us on <strong data-end="153" data-start="129" fr-original-style="" style="font-weight: 700\;">Sunday\, May 10\, 2026</strong>\, for a warm\, inviting gathering filled with delicious food\, relaxed conversation\, and memorable moments together.</p><p data-end="484" data-start="269">We&rsquo\;re offering two seating times&mdash\;<strong data-end="314" data-start="302" fr-original-style="" style="font-weight: 700\;">10:00 AM</strong> and <strong data-end="331" data-start="319" fr-original-style="" style="font-weight: 700\;">12:00 PM</strong>&mdash\;so you can choose what fits your day best. Each seating is limited to ensure a comfortable\, enjoyable atmosphere\, so be sure to reserve your spot early.</p><p data-end="868" data-start="486">Indulge in a thoughtfully curated brunch menu featuring something for everyone. Enjoy a fresh <strong data-end="597" data-start="580" fr-original-style="" style="font-weight: 700\;">fruit display</strong>\, savory favorites like <strong data-end="678" data-start="621" fr-original-style="" style="font-weight: 700\;">crispy bacon\, sausage patties\, and golden hash browns</strong>\, and classic breakfast staples including <strong data-end="761" data-start="720" fr-original-style="" style="font-weight: 700\;">scrambled eggs and house-made waffles</strong>. Treat yourself to elevated delights like <strong data-end="833" data-start="804" fr-original-style="" style="font-weight: 700\;">Cr&egrave\;me Br&ucirc\;l&eacute\;e French Toast</strong> and a customizable <strong data-end="867" data-start="853" fr-original-style="" style="font-weight: 700\;">yogurt bar</strong>.</p><p data-end="868" data-start="486">BYOB--bring your own champagne and we will have the rest to enjoy a mimosa with mom! $5 corkage fee</p><p data-end="1144" data-start="870">Our bakery selection offers a tempting assortment of <strong data-end="963" data-start="923" fr-original-style="" style="font-weight: 700\;">Danishes\, mini muffins\, coffee cakes</strong>\, and specialty <strong data-end="1026" data-start="979" fr-original-style="" style="font-weight: 700\;">New York chocolate and cinnamon babka cakes</strong>. You&rsquo\;ll also find a variety of <strong data-end="1069" data-start="1058" fr-original-style="" style="font-weight: 700\;">quiches</strong>&mdash\;including meat\, diced ham\, and vegetarian options&mdash\;to round out your plate.</p><p data-end="1158" data-start="1146"><strong data-end="1158" data-start="1146" fr-original-style="" style="font-weight: 700\;">Pricing:</strong></p><ul data-end="1267" data-start="1159" fr-original-style="" style="list-style-position: inside\;"><li data-end="1177" data-section-id="nmxe11" data-start="1159">Adults: $39.95</li><li data-end="1210" data-section-id="9fwg8o" data-start="1178">Children (ages 4&ndash\;10): $19.95</li><li data-end="1239" data-section-id="950742" data-start="1211">Children over 10: $39.95</li><li data-end="1267" data-section-id="tn9lpv" data-start="1240">Children ages 1&ndash\;4: Free</li></ul><p data-end="1353" data-is-last-node="" data-is-only-node="" data-start="1269">Make this Mother&rsquo\;s Day one to remember with a brunch that&rsquo\;s as special as she is.</p></body></html>
LOCATION:207 E. VIRGINIA St. McKinney TX 75069
UID:e.3715.1444244
SEQUENCE:3
DTSTAMP:20260420T121430Z
URL:https://mckinneychdev.growthzoneapp.com/calendar/Details/togather-mother-s-day-brunch-1710611?sourceTypeId=Hub
END:VEVENT
END:VCALENDAR
