BEGIN:VCALENDAR
VERSION:2.0
PRODID:-//ChamberMaster//Event Calendar 2.0//EN
METHOD:PUBLISH
X-PUBLISHED-TTL:P1H
REFRESH-INTERVAL:P1H
CALSCALE:GREGORIAN
BEGIN:VTIMEZONE
TZID:America/Chicago
BEGIN:DAYLIGHT
RRULE:FREQ=YEARLY;BYMONTH=3;BYDAY=2SU
DTSTART:20070101T000000
TZOFFSETFROM:-0600
TZOFFSETTO:-0500
TZNAME:Central Daylight Time
END:DAYLIGHT
BEGIN:STANDARD
RRULE:FREQ=YEARLY;BYMONTH=11;BYDAY=1SU
DTSTART:20070101T000000
TZOFFSETFROM:-0500
TZOFFSETTO:-0600
TZNAME:Central Standard Time
END:STANDARD
END:VTIMEZONE
BEGIN:VEVENT
DTSTART;TZID=America/Chicago:20260625T080000
DTEND;TZID=America/Chicago:20260625T093000
X-MICROSOFT-CDO-ALLDAYEVENT:FALSE
SUMMARY:CEO Series- Tammy Mahan
DESCRIPTION:Join us for our upcoming CEO Series on June 25th at 8:00 AM at Gather on the Square\, featuring Tammy J. Mahan\, Chief Executive Officer of LifePath Systems.With more than 30 years of leadership experience in Texas' public mental health\, substance use\, and developmental disability services\, Tammy brings a deep understanding of the challenges and opportunities facing rapidly growing communities like Collin County. As CEO\, she oversees a multi-million-dollar organization dedicated to expanding access to critical behavioral health services while working closely with community partners\, policymakers\, and stakeholders to strengthen systems of care. This informal coffee chat offers a unique opportunity to hear directly from Tammy about her career journey\, leadership insights\, and the evolving landscape of behavioral health services. Attendees will gain valuable perspective on collaboration\, community impact\, and the strategic work being done to support individuals and families across our region.Come ready to connect\, learn\, and engage in meaningful conversation.
X-ALT-DESC;FMTTYPE=text/html:<!DOCTYPE html><html><head><title></title></head><body aria-disabled="false"><p data-end="155" data-start="0">Join us for our upcoming CEO Series on June 25th at 8:00 AM at Gather on the Square\, featuring Tammy J. Mahan\, Chief Executive Officer of LifePath Systems.</p><p data-end="689" data-start="157">With more than 30 years of leadership experience in Texas&rsquo\; public mental health\, substance use\, and developmental disability services\, Tammy brings a deep understanding of the challenges and opportunities facing rapidly growing communities like Collin County. As CEO\, she oversees a multi-million-dollar organization dedicated to expanding access to critical behavioral health services while working closely with community partners\, policymakers\, and stakeholders to strengthen systems of care.&nbsp\;</p><p data-end="1043" data-start="691">This informal coffee chat offers a unique opportunity to hear directly from Tammy about her career journey\, leadership insights\, and the evolving landscape of behavioral health services. Attendees will gain valuable perspective on collaboration\, community impact\, and the strategic work being done to support individuals and families across our region.</p><p data-end="1113" data-is-last-node="" data-is-only-node="" data-start="1045">Come ready to connect\, learn\, and engage in meaningful conversation.</p></body></html>
LOCATION:207 E. Virginia St.\, Ste 209 McKinney TX 75069
UID:e.3715.1330445
SEQUENCE:3
DTSTAMP:20260424T121658Z
URL:https://mckinneychdev.growthzoneapp.com/calendar/Details/ceo-series-tammy-mahan-1561161?sourceTypeId=Hub
END:VEVENT
END:VCALENDAR
